BEGIN:VCALENDAR
VERSION:2.0
X-WR-CALNAME:BrightTALK Event
PRODID:-//BrightTALK//NONSGML BrightTALK Event Calendar//EN
CALSCALE:GREGORIAN
METHOD:REQUEST
BEGIN:VEVENT
UID:https://www.wandisco.com/news-events/future-webinars
DTSTAMP:20220806T090219Z
ORGANIZER:MAILTO:noreply@brighttalk.com
LOCATION:BrightTALK
URL:https://www.wandisco.com/news-events/future-webinars?utm_campaign=
 add-to-calendar&utm_medium=calendar&utm_source=brighttalk-transact
DTSTART:20150625T170000Z
DTEND:20150625T174503Z
SUMMARY:Live webcast: ClearCase to Git
DESCRIPTION:Click here to attend: https://www.wandisco.com/news-events
 /future-webinars?utm_campaign=add-to-calendar&utm_medium=calendar&utm_
 source=brighttalk-transact\n\nPresenter: Randy DeFauw\n\nSCM systems a
 re the cornerstone of modern continuous delivery and DevOps. Is it tim
 e to update your system? If you're a development manager or ALM expert
  considering a move from ClearCase to Git, join us for this webinar wh
 ere we'll review the why and how of making the switch.
SEQUENCE:1776896369
END:VEVENT
END:VCALENDAR
