BEGIN:VCALENDAR
VERSION:2.0
X-WR-CALNAME:BrightTALK Event
PRODID:-//BrightTALK//NONSGML BrightTALK Event Calendar//EN
CALSCALE:GREGORIAN
METHOD:REQUEST
BEGIN:VEVENT
UID:https://www.brighttalk.com/webcast/13175/318407
DTSTAMP:20231030T111708Z
ORGANIZER:MAILTO:noreply@brighttalk.com
LOCATION:BrightTALK
URL:https://www.brighttalk.com/webcast/13175/318407?utm_campaign=add-t
 o-calendar&utm_medium=calendar&utm_source=brighttalk-transact
DTSTART:20180503T170000Z
DTEND:20180503T172737Z
SUMMARY:Live webcast: The Future of the Cloud is Here: Data Mobility a
 nd Performance
DESCRIPTION:Click here to attend: https://www.brighttalk.com/webcast/1
 3175/318407?utm_campaign=add-to-calendar&utm_medium=calendar&utm_sourc
 e=brighttalk-transact\n\nPresenter: Jonsi Stefansson, Vice President C
 loud Services, NetApp\n\nWhen it comes to cloud, companies dream of fi
 nally achieving the elusive free-flowing workload migration.\n\nJoin N
 etApp VP of Cloud Services Jonsi Stefansson for a look into a new clou
 d service, NetApp® Cloud Volumes for AWS.\n\nIn this webinar you'll le
 arn how to remove obstacles that are preventing you from moving your e
 nterprise applications to the cloud today. Plus, Jonsi will show you h
 ow you can increase performance of your enterprise applications in the
  cloud.\n\n•  Go from zero to 100TB within 8 seconds\n•  Attain lightn
 ing-fast performance, 2ms latency\n•  Get support for NFS and SMB\n\nT
 his webinar offers the opportunity to learn about the future of the cl
 oud with NetApp Cloud Volumes for AWS.\n\nRegister now!
SEQUENCE:1777059501
END:VEVENT
END:VCALENDAR
