BEGIN:VCALENDAR
VERSION:2.0
X-WR-CALNAME:BrightTALK Event
PRODID:-//BrightTALK//NONSGML BrightTALK Event Calendar//EN
CALSCALE:GREGORIAN
METHOD:REQUEST
BEGIN:VEVENT
UID:https://www.brighttalk.com/webcast/17701/471581
DTSTAMP:20220806T085955Z
ORGANIZER:MAILTO:noreply@brighttalk.com
LOCATION:BrightTALK
URL:https://www.brighttalk.com/webcast/17701/471581?utm_campaign=add-t
 o-calendar&utm_medium=calendar&utm_source=brighttalk-transact
DTSTART:20210317T143000Z
DTEND:20210317T153527Z
SUMMARY:Live webcast: The Inevitable Policy Response 2021: Forecast Po
 licies
DESCRIPTION:Click here to attend: https://www.brighttalk.com/webcast/1
 7701/471581?utm_campaign=add-to-calendar&utm_medium=calendar&utm_sourc
 e=brighttalk-transact\n\nPresenter: The PRI\n\nThis webinar will provi
 de an update on The Inevitable Policy Response, a pioneering project c
 ommissioned by the PRI.  The event will include an overview of The Ine
 vitable Policy Response followed by a deeper examination of the foreca
 st policies and implications for investors.  This event is relevant to
  all PRI signatories, including implementation of TCFD and climate ris
 k assessment, as well as steps towards net zero.  Speakers will includ
 e specialists on The Inevitable Policy Response including Vivid Econom
 ics and Energy Transition Advisors, as well as investors already integ
 rating The Inevitable Policy Response.\n\nConfirmed speakers:\nFiona R
 eynolds, CEO, PRI\nThomas Kansy, Director, Vivid Economics\nJulian Pou
 lter, Partner, Energy Transition Advisors\nJane Ambachtsheer, Global H
 ead of Sustainability, BNP Paribas Asset Management\nAlexis Rosenblum,
  Chief Corporate Sustainability Officer, BlackRock\nModerated by: Saga
 rika Chatterjee, Director of Climate Change, PRI and COP26 High-Level 
 Champions Team Member
SEQUENCE:1776954312
END:VEVENT
END:VCALENDAR
