BEGIN:VCALENDAR
VERSION:2.0
X-WR-CALNAME:BrightTALK Event
PRODID:-//BrightTALK//NONSGML BrightTALK Event Calendar//EN
CALSCALE:GREGORIAN
METHOD:REQUEST
BEGIN:VEVENT
UID:https://www.brighttalk.com/webcast/17701/472769
DTSTAMP:20220806T085909Z
ORGANIZER:MAILTO:noreply@brighttalk.com
LOCATION:BrightTALK
URL:https://www.brighttalk.com/webcast/17701/472769?utm_campaign=add-t
 o-calendar&utm_medium=calendar&utm_source=brighttalk-transact
DTSTART:20210309T160000Z
DTEND:20210309T170124Z
SUMMARY:Live webcast: How Investors can Improve Workers' Rights: Lesso
 ns from the Fair Food Program
DESCRIPTION:Click here to attend: https://www.brighttalk.com/webcast/1
 7701/472769?utm_campaign=add-to-calendar&utm_medium=calendar&utm_sourc
 e=brighttalk-transact\n\nPresenter: Nabylah Abo Dehman; Gerardo Reyes-
 Chavez; Judge Laura Safer Espinoza (Ret); Greg Asbed; Mike Musuraca; A
 melia Evans\n\nThe Fair Food Program represents a new, innovative form
  of protecting human rights in corporate supply chains. Based on Worke
 r-driven Social Responsibility (WSR), the Fair Food Program is devised
 , monitored and enforced by the very workers whose rights it protects.
  Described by the UN Working Group on Business and Human Rights as a “
 groundbreaking model”, this webinar will explore how WSR has transform
 ed the lives of those involved and outline how investors can support t
 he drive to protect the workers in corporate supply chains.\n\nConfirm
 ed speakers: \nGerardo Reyes-Chavez, Farmworker Leader, CIW\nJudge Lau
 ra Safer Espinoza (Ret), Executive Director, Fair Food Standards Counc
 il\nGreg Asbed, Co-founder, CIW\nMike Musuraca, Strategic Advisor, ESG
  and Labor & former PRI board member\nAmelia Evans, Executive Director
 , Institute for Multi-Stakeholder Initiative Integrity\nModerator: Nab
 ylah Abo Dehman, Manager, Social Issues, PRI
SEQUENCE:1776954312
END:VEVENT
END:VCALENDAR
