BEGIN:VCALENDAR
VERSION:2.0
X-WR-CALNAME:BrightTALK Event
PRODID:-//BrightTALK//NONSGML BrightTALK Event Calendar//EN
CALSCALE:GREGORIAN
METHOD:REQUEST
BEGIN:VEVENT
UID:https://www.brighttalk.com/webcast/8855/331562
DTSTAMP:20220806T085940Z
ORGANIZER:MAILTO:noreply@brighttalk.com
LOCATION:BrightTALK
URL:https://www.brighttalk.com/webcast/8855/331562?utm_campaign=add-to
 -calendar&utm_medium=calendar&utm_source=brighttalk-transact
DTSTART:20180828T170000Z
DTEND:20180828T180005Z
SUMMARY:Live webcast: 3 Ways to Improve Employee Experience by Expandi
 ng Service Management
DESCRIPTION:Click here to attend: https://www.brighttalk.com/webcast/8
 855/331562?utm_campaign=add-to-calendar&utm_medium=calendar&utm_source
 =brighttalk-transact\n\nPresenter: Roy Atkinson and Matt Stone\n\nMore
  organizations than ever before are now recognizing the importance of 
 the employee experience. Productivity, talent acquisition and retentio
 n, and customer satisfaction are all related to the employee experienc
 e, so it makes very good business sense to improve it as much as possi
 ble.\n\nIn this webinar, Roy Atkinson and Matt Stone will examine how 
 concentrating on three aspects of employee experience can accelerate b
 usiness performance.\n\nIn this webinar, we will discuss:\n* Understan
 ding how the employee experience is related to business success\n* Mea
 suring the right things\n* Providing a single platform for service man
 agement across the organization\n\nWho should attend:\n* Service manag
 ement professionals inside and outside IT\n* Managers and process owne
 rs who want to learn more about service management trends
SEQUENCE:1776996365
END:VEVENT
END:VCALENDAR
